BEGIN:VCALENDAR
VERSION:2.0
PRODID:-//Metro-North Railroad Retirees - ECPv5.13.0//NONSGML v1.0//EN
CALSCALE:GREGORIAN
METHOD:PUBLISH
X-WR-CALNAME:Metro-North Railroad Retirees
X-ORIGINAL-URL:https://mnrr.org
X-WR-CALDESC:Events for Metro-North Railroad Retirees
REFRESH-INTERVAL;VALUE=DURATION:PT1H
X-Robots-Tag:noindex
X-PUBLISHED-TTL:PT1H
BEGIN:VTIMEZONE
TZID:UTC
BEGIN:STANDARD
TZOFFSETFROM:+0000
TZOFFSETTO:+0000
TZNAME:UTC
DTSTART:20180101T000000
END:STANDARD
END:VTIMEZONE
BEGIN:VEVENT
DTSTART;TZID=UTC:20221012T120000
DTEND;TZID=UTC:20221012T150000
DTSTAMP:20260423T184103
CREATED:20220912T153734Z
LAST-MODIFIED:20221012T014411Z
UID:2432-1665576000-1665586800@mnrr.org
SUMMARY:Harmon Retirees Luncheon
DESCRIPTION:Please Join us at  Cortlandt Colonial Restaurant for a Retirees Luncheon at noon.\nMenu:\nPenne Ala vodka\, tortellini \, egg plant parm\nChicken Picata\nShrimp scampi\nPrime rib of beef.\nSoda included\nCoffee and dessert \n  \nCharge $40 \nBelow is a List of those attending  who responded  attending and Registered here Online and those who responded to the email. \nCurrently RegisteredRichard Conboy Andrew MULHALL Frank Pretter Boots Thestrup Guido Franceschina Rosemarie Costantini Barry Day Richard Merring William Chilson Edward Dow Lon Westphal Kevin Kelly Ira R. Golden Billy Sainz Peter LoPresti Bobby Dean tom weissmann Gerald Goldstein James Johnson \nTony Selvaggi \n\nDave Brower\nCosmo Calderone\nPete Deak\nJohn Dmytryszyn\nBilly Montana\nKenny Horne\nFrank Thompson\nJoe Monteperto\nSal Monteperto\nKevin Kelly\n\n  \nluncheon221012 -attendance list \n  \n  \n  \n 
URL:https://mnrr.org/event/harmon-retirees-luncheon-8/
LOCATION:Cortlandt Colonial Resaurant\, 714 Old Albany Post Rd\,\, Cortlandt\, NY\, 10567\, United States
ORGANIZER;CN="Harmon%20Retirees%20Group":MAILTO:retirees@mnrr.org
END:VEVENT
BEGIN:VEVENT
DTSTART;TZID=UTC:20220913T110000
DTEND;TZID=UTC:20220913T130000
DTSTAMP:20260423T184103
CREATED:20220912T153122Z
LAST-MODIFIED:20220912T153122Z
UID:2429-1663066800-1663074000@mnrr.org
SUMMARY:Joe Russo Retirees Breakfast
DESCRIPTION:For all Metro North retirees\, \n This Tuesday 9/13/22 at 11am we will be getting together for a retiree’s breakfast at the I-84 diner in Fishkill.\, it’s a all you can eat buffet for $25 per person\, please call 845-857-4417\, thanks. Joe Russo
URL:https://mnrr.org/event/joe-russo-retirees-breakfast/
LOCATION:I84 Diner\, 853 NY-52\, Fishkill\, NY\, 12524\, United States
END:VEVENT
BEGIN:VEVENT
DTSTART;TZID=UTC:20220912T120000
DTEND;TZID=UTC:20220912T150000
DTSTAMP:20260423T184103
CREATED:20220912T152409Z
LAST-MODIFIED:20220912T152409Z
UID:2427-1662984000-1662994800@mnrr.org
SUMMARY:Harmon Retirees Luncheon
DESCRIPTION:Please Join us for our retirees luncheon at Cortland Colonial Restaurant at noon on Wednesday\, October 12th. \nMenu:\nPenne Ala vodka\, tortilleni \, egg plant parm\nChicken Picata\nShrimp scampi\nPrime rib of beef.\nSoda included\nCoffee and dessert \nCharge $40 – pay at the door
URL:https://mnrr.org/event/harmon-retirees-luncheon-7/
LOCATION:Cortlandt Colonial Resaurant\, 714 Old Albany Post Rd\,\, Cortlandt\, NY\, 10567\, United States
END:VEVENT
BEGIN:VEVENT
DTSTART;TZID=UTC:20220824T120000
DTEND;TZID=UTC:20220824T150000
DTSTAMP:20260423T184103
CREATED:20220723T122424Z
LAST-MODIFIED:20220823T233341Z
UID:2366-1661342400-1661353200@mnrr.org
SUMMARY:Harmon Retirees Clambake
DESCRIPTION:The Harmon Retirees Annual Clambake is back and will be held Wednesday August 24th 2022 at Peekskill River Front Green from noon to 3:00pm. Located just across from the train station.\n\nThe food will be prepared & served by NY Firehouse Grill\, which is located in Peekskill.\nGuests are welcome and the cost is $60.00 per person – you must register by August 10th so we may get a accurate count for the seafood – There will be a limited number of tickets so if available\, the cost will be $70.00 day of event.\nIncluded on the menu are:\nSouthern Potato Salad\nApple walnut salad\nHamburgers/Cheeseburgers\nHot Dogs\nRoasted Chicken\nBeef Brisket\nCorn on the cob\nBaked Beans\nClam boil\, with shrimp\, clams\, muscles\, Andouille sausage\, corn\, and potatoes\nSoda and water \nPlease do not register unless you are sure you will be there.\n \nBring your own beer\, wine or Liquor. \n\nWe have 64 people scheduled to attend – we have closed the registration as of 8/11/22 – we needed 2 weeks to order the food \nList of those Scheduled to attend: \n\n\n\nAmato\, Anthony\n\n\nBrower\, Dave\n\n\nCartwright\, jack\n\n\nCaterino\, Eric\n\n\nClark\, Jerry\n\n\nConboy\, Rich\n\n\nCostantini\, Rose\n\n\nDean\, Robert\n\n\nDeStrange\, Mike\n\n\nDiana\, Mike\n\n\nDmytryszyn\, John\n\n\nDow\, Ed\n\n\nDoyle\, Wally\n\n\nDwyer\, Dan\n\n\nEggar\, John\n\n\nEpstein\, Dave\n\n\nFiorisi\, Mike\n\n\nFisher\, John\n\n\nFrissora\, Ralph\n\n\nGaskell\, Tom & Andra\n\n\nGolden\, Ira\n\n\nHarrington\, Brent\n\n\nHesselgrave\, Roy\n\n\nJagelski\, Ray\n\n\nJamison\, Wilbur\n\n\nJatnieks\, Johnny\n\n\nJatnieks\, Zoraida Cortes\n\n\nJohnson\, James\n\n\nKarabinos\, Wayne\n\n\nKelly\, Ed\n\n\nLatham\, Fritz\n\n\nLittle\, Rich\n\n\nLogan\, Dave\n\n\nlopresti\, pete\n\n\nLuzzi\, Joe\n\n\nLynch\, Tim\n\n\nMalaspina\, Vinnie\n\n\nManziello\, Ralph\n\n\nMatwijec\, Patrick\n\n\nMcVey\, Danny\n\n\nMills\, Billy\n\n\nMulhall\, Andy\n\n\nMulhall\, Artie\n\n\nPatrick\, Rick\n\n\nRolle\, Alvin\n\n\nSainz\, Bill\n\n\nSchiavi\, Frank\n\n\nSeekicher\, Bill\n\n\nSenior\, Tom\n\n\nSewalk\, Jimmy\n\n\nStevens\, Paul\n\n\nStrang\, Rich\n\n\nTambone\, Frank\n\n\nTaylor\, Matt\n\n\nThestrup\, Tom “Boots”\n\n\nThompson\, Frank\n\n\nWalsh\, Bill\n\n\nWestphal\, Lon\n\n\n\n  \nBelow is the list of people who registered online: \nCurrently RegisteredIra R. Golden dan mcvey Frank Tambone Billy Mills BOOTS Thestrup timothy lynch James Johnson David Brower Edward Dow Matthew Taylor Lon Westphal John Jatnieks Andra Gaskell Bill Seekircher Barbara Matwijec Rosemarie Costantini John Egger Wally Doyle Tom Weissmann Michael Diana Eric Caterino Michael DeStrange Billy Sainz ANDREW MULHALL Sharon Taylor John Fisher David Epstein Thomas Gaskell Michael Fiorisi Jerry Clark Patrick J Matwijec
URL:https://mnrr.org/event/retirees-clambake/
LOCATION:Riverfront Green Park\, Railroad Ave.\, Peekskill\, NY\, 10566\, United States
ORGANIZER;CN="Harmon%20Retirees%20Group":MAILTO:retirees@mnrr.org
END:VEVENT
BEGIN:VEVENT
DTSTART;TZID=UTC:20220608T111500
DTEND;TZID=UTC:20220608T150000
DTSTAMP:20260423T184103
CREATED:20220526T155836Z
LAST-MODIFIED:20220608T161820Z
UID:1956-1654686900-1654700400@mnrr.org
SUMMARY:Harmon Retirees Luncheon
DESCRIPTION:This will be a sponsored luncheon by Dan Calabrese who will give a brief talk on insurance and investments.  Arrive for the luncheon around 11:15 am at the Paradise Restaurant 135 Broadway Verplank\, NY 10596. There will be a chicken choice\, eggplant rollatini\, a pasta dish\, a fish dish\, salad\, coffee\, soda\, desert.
URL:https://mnrr.org/event/harmon-retirees-luncheon-6/
LOCATION:Paradise Restaurant\, 135 Broadway\, Verplank\, New York\, 10596
END:VEVENT
BEGIN:VEVENT
DTSTART;TZID=UTC:20220413T113000
DTEND;TZID=UTC:20220413T150000
DTSTAMP:20260423T184103
CREATED:20220328T201646Z
LAST-MODIFIED:20220328T202500Z
UID:1686-1649849400-1649862000@mnrr.org
SUMMARY:Harmon Retirees Luncheon
DESCRIPTION:Join us at the Cortland Colonial Restaurant on Wednesday April 13\, 2022 – please arrive at 11:30 – lunch is served at noon. \nThe buffet selections at Cortland Colonial and price: \nChicken Marsala\nStuff sole with crab meat\nPasta with garlic and oil and penne alla vodka\nPrime rib and soda\ncost is $35 per person\, guests welcome \n  \nAdditional info can be found at the website https://mnrr.org/groups/harmon-mofe-retirees/#content
URL:https://mnrr.org/event/harmon-retirees-luncheon-5/
LOCATION:Cortlandt Colonial Resaurant\, 714 Old Albany Post Rd\,\, Cortlandt\, NY\, 10567\, United States
END:VEVENT
BEGIN:VEVENT
DTSTART;TZID=UTC:20210728T113000
DTEND;TZID=UTC:20210728T150000
DTSTAMP:20260423T184103
CREATED:20210717T143645Z
LAST-MODIFIED:20210717T143645Z
UID:1504-1627471800-1627484400@mnrr.org
SUMMARY:Harmon Retirees Luncheon
DESCRIPTION:  We are planning our 1st luncheon since 2019 – on Wednesday July 28\, 2021 at Cortlandt Colonial restaurant. The cost will be $35 per person and we will begin at noon\, guests are welcome. \n\nSalad Bar with Soup\, Fresh Bread and Butter\, Tossed Salad and Assorted Cold Salads\n• Two Pasta Selections\nPrime Rib Carving Station\n• Chicken Parmesan\n• Seafood selection\n• Eggplant Parmigiano\n• Rice Pilaf\n• Fresh Steamed Vegetables\n• Desert Selection\n• Coffee or Tea. Unlimited soft drinks.\nThere will be additional raffle tickets available at the door\n\n  \nAddress: 714 Old Albany Post Rd\, Cortlandt\, NY 10567
URL:https://mnrr.org/event/harmon-retirees-luncheon-4/
LOCATION:Cortlandt Colonial Resaurant\, 714 Old Albany Post Rd\,\, Cortlandt\, NY\, 10567\, United States
ORGANIZER;CN="Harmon%20Retirees%20Group":MAILTO:retirees@mnrr.org
END:VEVENT
BEGIN:VEVENT
DTSTART;TZID=UTC:20210706T110000
DTEND;TZID=UTC:20210706T130000
DTSTAMP:20260423T184103
CREATED:20210702T000835Z
LAST-MODIFIED:20210702T000835Z
UID:1469-1625569200-1625576400@mnrr.org
SUMMARY:Retirees Breakfast by Joe Russo
DESCRIPTION:For all Metro North retirees we will be getting together on Tuesday 7/6/21 at 11:00 am at the I-84 diner in Fishkill\, if you are interested in attending please call me @ 845-857-4417 I hope to see some new faces. Joe Russo
URL:https://mnrr.org/event/retirees-breakfast-by-joe-russo/
LOCATION:I84 Diner\, 853 NY-52\, Fishkill\, NY\, 12524\, United States
END:VEVENT
BEGIN:VEVENT
DTSTART;TZID=UTC:20210601T110000
DTEND;TZID=UTC:20210601T130000
DTSTAMP:20260423T184103
CREATED:20210530T163447Z
LAST-MODIFIED:20210530T163447Z
UID:1465-1622545200-1622552400@mnrr.org
SUMMARY:Joe Russo Breakfast
DESCRIPTION:For all Metro North retirees\, on Tuesday 6/1/2021 at 11:00am we will be getting together for a retiree get together at the I-84 diner in Fishkill. A all you can eat breakfast buffet for $23\, if you plan on attending please call Joe Russo at 845-857-4417\, thanks!
URL:https://mnrr.org/event/joe-russo-breakfast/
LOCATION:NY
END:VEVENT
BEGIN:VEVENT
DTSTART;TZID=UTC:20200301T080000
DTEND;TZID=UTC:20200430T170000
DTSTAMP:20260423T184103
CREATED:20200414T162555Z
LAST-MODIFIED:20200414T162555Z
UID:1393-1583049600-1588266000@mnrr.org
SUMMARY:Coronavirus Social Distancing
DESCRIPTION:
URL:https://mnrr.org/event/coronavirus-social-distancing/
LOCATION:NY
ATTACH;FMTTYPE=image/jpeg:https://mnrr.org/wp-content/uploads/2020/04/virusEvent.jpg
END:VEVENT
BEGIN:VEVENT
DTSTART;TZID=UTC:20200107T110000
DTEND;TZID=UTC:20200107T140000
DTSTAMP:20260423T184103
CREATED:20200105T184902Z
LAST-MODIFIED:20200105T222646Z
UID:1274-1578394800-1578405600@mnrr.org
SUMMARY:Metro North retirees
DESCRIPTION:Hey All you Metro North retirees\, the next get together at the I-84 diner is Tuesday 1/7 @11am\, please give me a call or text to 845-857-4417 and let me know if plan on attending\, hope to see some new faces this year!  $23 per person
URL:https://mnrr.org/event/metro-north-retirees/
LOCATION:I84 Diner\, 853 NY-52\, Fishkill\, NY\, 12524\, United States
END:VEVENT
BEGIN:VEVENT
DTSTART;TZID=UTC:20191105T110000
DTEND;TZID=UTC:20191105T143000
DTSTAMP:20260423T184103
CREATED:20191030T153611Z
LAST-MODIFIED:20191030T153658Z
UID:976-1572951600-1572964200@mnrr.org
SUMMARY:MNRR retirees breakfast buffet
DESCRIPTION:From Joe Russo\, \nFor all my Metro North retiree friends\, on Tuesday 11/5 at 11am at the I-84 diner in Fishkill we will be having a retirees together. All are invited to attend\, hope to see some new faces. This is a all you can eat breakfast buffet for $23. If you plan on attending please let me know by responding here or calling me @ 845-857-4417\, thanks. Please spread the word. Joe.
URL:https://mnrr.org/event/mnrr-retirees-luncheon/
LOCATION:I84 Diner\, 853 NY-52\, Fishkill\, NY\, 12524\, United States
END:VEVENT
BEGIN:VEVENT
DTSTART;TZID=UTC:20191016T113000
DTEND;TZID=UTC:20191016T143000
DTSTAMP:20260423T184103
CREATED:20191001T154511Z
LAST-MODIFIED:20191001T154511Z
UID:963-1571225400-1571236200@mnrr.org
SUMMARY:Harmon Retirees Luncheon
DESCRIPTION:Our last function of the year:\nWednesday\, October 16th at noon (arrive at 11:30) – Buffet lunch at Cortlandt Colonial. $30p/p at the door.\nThis will be a Buffet Lunch with a Salad Bar\, Prime Rib Carving Station and desert. \n• Salad Bar with Soup\, Fresh Bread and Butter\, Tossed Salad and Assorted Cold Salads\n• Two Pasta Selections: Cheese Ravioli\, Macaroni and cheese\,\n• Chicken Marsala\n• Stuffed Sole\n• Eggplant Parmigiana\n• Rice Pilaf\n• Fresh Steamed Vegetables\n• Prime Rib Carving Station\n• Desert Selection\n• Coffee or Tea\nThere will be additional raffle tickets available at the door
URL:https://mnrr.org/event/harmon-retirees-luncheon-3/
LOCATION:Cortlandt Colonial Resaurant\, 714 Old Albany Post Rd\,\, Cortlandt\, NY\, 10567\, United States
ORGANIZER;CN="Harmon%20Retirees%20Group":MAILTO:retirees@mnrr.org
END:VEVENT
BEGIN:VEVENT
DTSTART;TZID=UTC:20190910T110000
DTEND;TZID=UTC:20190910T130000
DTSTAMP:20260423T184103
CREATED:20190902T154300Z
LAST-MODIFIED:20190908T151224Z
UID:956-1568113200-1568120400@mnrr.org
SUMMARY:All Metro North RR retirees – breakfast buffet
DESCRIPTION:For all Metro North RR retirees\, on Tuesday September 10th @ 11:00am at the I-84 diner in Fishkill we will be having a all you can eat breakfast buffet for $23. If you plan to attend please call Joe Russo @ 845-857-4417\, hope to see you there!
URL:https://mnrr.org/event/all-metro-north-rr-retirees-breakfast-buffet-2/
LOCATION:I84 Diner\, 853 NY-52\, Fishkill\, NY\, 12524\, United States
END:VEVENT
BEGIN:VEVENT
DTSTART;TZID=UTC:20190904T120000
DTEND;TZID=UTC:20190904T160000
DTSTAMP:20260423T184103
CREATED:20190617T152309Z
LAST-MODIFIED:20190902T154441Z
UID:875-1567598400-1567612800@mnrr.org
SUMMARY:Harmon Retirees Clambake at Peekskill Park
DESCRIPTION:On Wednesday\, September 4th  2019\, noon to 4pm – The Harmon retirees are having a Clambake at Peekskill Park. \nJoin us for a day at the Park\, with good food and friends.  BYOB \nThe PrePay cost is $45 until August 28th- cash or check made out to Charlie Castronovo.  After Aug 28th the cost is $55. \nChecks can be mailed to:\nCharles Castronovo 11 Old Locust Avenue Cortlandt Manor\, NY 10567 \nGuests are welcome at the same cost as members.\n\nWe will hold the event at Peekskill River Front Park\, a short walk from the Peekskill train station. Cash prizes and other prizes will be awarded.
URL:https://mnrr.org/event/harmon-retirees-clambake-at-peekskill-park/
LOCATION:Riverfront Green Park\, Railroad Ave.\, Peekskill\, NY\, 10566\, United States
END:VEVENT
BEGIN:VEVENT
DTSTART;TZID=UTC:20190824T120000
DTEND;TZID=UTC:20190824T170000
DTSTAMP:20260423T184103
CREATED:20190705T153240Z
LAST-MODIFIED:20190705T172406Z
UID:931-1566648000-1566666000@mnrr.org
SUMMARY:Rose Costantini Retirement Party
DESCRIPTION:
URL:https://mnrr.org/event/rose-costantini-retirement-party/
LOCATION:Riverfront Green Park\, Railroad Ave.\, Peekskill\, NY\, 10566\, United States
END:VEVENT
BEGIN:VEVENT
DTSTART;TZID=UTC:20190709T110000
DTEND;TZID=UTC:20190709T140000
DTSTAMP:20260423T184103
CREATED:20190705T172052Z
LAST-MODIFIED:20190705T172052Z
UID:936-1562670000-1562680800@mnrr.org
SUMMARY:All Metro-North Employees Buffet Breakfast
DESCRIPTION:For all Metro North retirees\, our next get together is this coming Tuesday July 9th @11:00 am at the I-84 diner in Fishkill. We will be having a all you can eat breakfast buffet for 23$ a person\, if interested in attending please call Joe Russo at 845-857-4417\, thanks\, hope to see some new faces!
URL:https://mnrr.org/event/all-metro-north-employees-buffet-breakfast/
LOCATION:I84 Diner\, 853 NY-52\, Fishkill\, NY\, 12524\, United States
END:VEVENT
BEGIN:VEVENT
DTSTART;TZID=UTC:20190619T120000
DTEND;TZID=UTC:20190619T150000
DTSTAMP:20260423T184103
CREATED:20190603T144836Z
LAST-MODIFIED:20190603T144836Z
UID:873-1560945600-1560956400@mnrr.org
SUMMARY:Harmon Retirees Buffet Lunch
DESCRIPTION: Harmon Retirees Luncheon\, Wednesday\, June 19th at noon – Buffet lunch at Cortlandt Colonial. $30p/p at the door. \nThis will be a Buffet Lunch with a Salad Bar\, Prime Rib Carving Station and desert. \n   \nSalad Bar with Soup\, Fresh Bread and Butter\, Tossed Salad and Assorted Cold Salads \nTwo Pasta Selections: Cheese Ravioli\, Macaroni and cheese\, \nChicken Marsala \nStuffed Sole \nEggplant Parmigiana \nRice Pilaf \nFresh Steamed Vegetables \nPrime Rib Carving Station \nDesert Selection \nCoffee or Tea \n             There will be additional raffle tickets available at the door
URL:https://mnrr.org/event/harmon-retirees-buffet-lunch-2/
LOCATION:Cortlandt Colonial Resaurant\, 714 Old Albany Post Rd\,\, Cortlandt\, NY\, 10567\, United States
END:VEVENT
BEGIN:VEVENT
DTSTART;TZID=UTC:20190507T110000
DTEND;TZID=UTC:20190507T140000
DTSTAMP:20260423T184103
CREATED:20190501T174920Z
LAST-MODIFIED:20190501T174920Z
UID:864-1557226800-1557237600@mnrr.org
SUMMARY:All Metro North RR retirees – breakfast buffet
DESCRIPTION:All Metro North retirees\, our next get together is this coming Tuesday May 7th @11:00 am at the I-84 diner in Fishkill. \nWe will be having a all you can eat breakfast buffet for 23$ a person\, if interested in attending please call Joe Russo at 845-857-4417\, thanks\, hope to see some new faces!
URL:https://mnrr.org/event/all-metro-north-rr-retirees-breakfast-buffet/
LOCATION:I84 Diner\, 853 NY-52\, Fishkill\, NY\, 12524\, United States
END:VEVENT
BEGIN:VEVENT
DTSTART;TZID=UTC:20190506T120000
DTEND;TZID=UTC:20190506T150000
DTSTAMP:20260423T184103
CREATED:20190414T143834Z
LAST-MODIFIED:20190414T144554Z
UID:834-1557144000-1557154800@mnrr.org
SUMMARY:9th Annual Metro-North Retiree Luncheon
DESCRIPTION:
URL:https://mnrr.org/event/9th-annual-metro-north-retiree-luncheon/
LOCATION:F&J Pine Italian Resturant\, 1913 Bronxsdale Ave\, NY\, 10462
END:VEVENT
BEGIN:VEVENT
DTSTART;TZID=UTC:20190417T113000
DTEND;TZID=UTC:20190417T150000
DTSTAMP:20260423T184103
CREATED:20190315T171215Z
LAST-MODIFIED:20190315T171703Z
UID:816-1555500600-1555513200@mnrr.org
SUMMARY:Harmon Retirees Buffet Lunch
DESCRIPTION:Wednesday\, April 17th at noon – Buffet lunch at Cortlandt Colonial. $30p/p at the door.\nThis will be a Buffet Lunch with a Salad Bar\, Prime Rib Carving Station and desert.\n  \n\nSalad Bar with Soup\, Fresh Bread and Butter\, Tossed Salad and Assorted Cold Salads\nTwo Pasta Selections: Cheese Ravioli & Pasta with Broccoli\, Garlic & Olive Oil\nFranchise Chicken\nStuffed Sole\nEggplant Parmigiana\nRice Pilaf\nFresh Steamed Vegetables\nPrime Rib Carving Station\nDesert Selection\nCoffee or Tea\n\nThere will be additional raffle tickets available at the door\n 
URL:https://mnrr.org/event/harmon-retirees-buffet-lunch/
LOCATION:Cortlandt Colonial Resaurant\, 714 Old Albany Post Rd\,\, Cortlandt\, NY\, 10567\, United States
ORGANIZER;CN="Harmon%20Retirees%20Group":MAILTO:retirees@mnrr.org
END:VEVENT
BEGIN:VEVENT
DTSTART;TZID=UTC:20190305T110000
DTEND;TZID=UTC:20190305T140000
DTSTAMP:20260423T184103
CREATED:20190220T064158Z
LAST-MODIFIED:20190228T222055Z
UID:782-1551783600-1551794400@mnrr.org
SUMMARY:All Metro North RR retirees – breakfast buffet -by Joe Russo
DESCRIPTION:For all Metro North RR retirees\, on Tuesday March 5th @ 11:00am at the I-84 diner in Fishkill we will be having a all you can eat breakfast buffet for $23. If you plan to attend please call Joe Russo @ 845-857-4417\, hope to see you there!
URL:https://mnrr.org/event/joe-russo-breakfast-at-84-diner/
LOCATION:I84 Diner\, 853 NY-52\, Fishkill\, NY\, 12524\, United States
ATTACH;FMTTYPE=image/jpeg:https://mnrr.org/wp-content/uploads/2017/11/20170404_122635.jpg
END:VEVENT
BEGIN:VEVENT
DTSTART;TZID=UTC:20181024T113000
DTEND;TZID=UTC:20181024T140000
DTSTAMP:20260423T184103
CREATED:20180918T211825Z
LAST-MODIFIED:20180918T212151Z
UID:625-1540380600-1540389600@mnrr.org
SUMMARY:Harmon Retirees Lucheon
DESCRIPTION:October 24\, 2018\nSit down lunch from a menu selection shown below at the: \nCortlandt Colonial Restaurant \n714 Old Albany Post Road\, Cortlandt Manor\, NY 10567 \nCost is $30.00 pp \nMenu\, Choice of \n\nPrime Rib\nCrabmeat stuffed fillet of sole\nChicken Parmagian\nPenne ala vodka\n\nPlus unlimited soup and salad bar\, coffee/tea and dessert.\nGuests are welcome for an additional $30.00per person.\nPlease arrive 11:30 a.m.\, lunch starts at 12:00 p.m. \n 
URL:https://mnrr.org/event/harmon-retirees-lucheon/
LOCATION:Cortlandt Colonial Resaurant\, 714 Old Albany Post Rd\,\, Cortlandt\, NY\, 10567\, United States
END:VEVENT
BEGIN:VEVENT
DTSTART;TZID=UTC:20181002T093000
DTEND;TZID=UTC:20181002T113000
DTSTAMP:20260423T184103
CREATED:20180813T154107Z
LAST-MODIFIED:20180813T154107Z
UID:592-1538472600-1538479800@mnrr.org
SUMMARY:Danbury Breakfast Club
DESCRIPTION:Next gathering will be Tuesday 10/2 at the New Holiday Diner\, 123 White Street\, at 9:30. \nWe meet five times  year\, on the first Tuesday of April\, June\, August\, October and December. \nThe last one for 2018 will be on 12/4.  If you have any questions\, you may contact me at NHRR67@comcast.net \nAmos Hewit
URL:https://mnrr.org/event/danbury-breakfast-club-3/
LOCATION:New Holiday Diner\, 123 White St.\, Danbury\, CT\, 06810\, United States
ORGANIZER;CN="Amos%20Hewitt":MAILTO:NHRR67@comcast.net
END:VEVENT
BEGIN:VEVENT
DTSTART;TZID=UTC:20180905T120000
DTEND;TZID=UTC:20180905T170000
DTSTAMP:20260423T184103
CREATED:20180618T133726Z
LAST-MODIFIED:20180618T134332Z
UID:586-1536148800-1536166800@mnrr.org
SUMMARY:Harmon Retirees Clam Bake
DESCRIPTION:September 5\, 2018 – Clambake Peekskill\nClambake at Peekskill Riverfront Green.  Starts at noon. \n\nGuests are allowed.\n\nCost is $45.00 per person. Payment must be received by August 30\, 2018\,\n\n\n– The clambake starts at Noon – food will be served from noon to 4:00pm\, and stay as long as you wish.\n\nPlease note\, this event must be paid for by August 30th\, 2018. Only 5 tickets will be held in reserve and they will cost $55.00 per person. The reason for the cutoff date is\, we have to order the food and we need an accurate count.\n\n  \n 
URL:https://mnrr.org/event/harmon-retirees-clam-bake/
LOCATION:Riverfront Green Park\, Railroad Ave.\, Peekskill\, NY\, 10566\, United States
END:VEVENT
BEGIN:VEVENT
DTSTART;TZID=UTC:20180807T093000
DTEND;TZID=UTC:20180807T113000
DTSTAMP:20260423T184103
CREATED:20180604T172928Z
LAST-MODIFIED:20180604T172928Z
UID:570-1533634200-1533641400@mnrr.org
SUMMARY:Danbury Breakfast Club
DESCRIPTION:Next gathering will be Tuesday 8/7 at the New Holiday Diner\, 123 White Street\, at 9:30. \nWe meet five times  year\, on the first Tuesday of April\, June\, August\, October and December. \nThe last ones for 2018 will be on 8/7\, 10/2\, 12/4.  If you have any questions\, you may contact me at NHRR67@comcast.net \nAmos Hewit
URL:https://mnrr.org/event/danbury-breakfast-club-2/
LOCATION:New Holiday Diner\, 123 White St.\, Danbury\, CT\, 06810\, United States
ORGANIZER;CN="Amos%20Hewitt":MAILTO:NHRR67@comcast.net
END:VEVENT
BEGIN:VEVENT
DTSTART;TZID=UTC:20180627T113000
DTEND;TZID=UTC:20180627T143000
DTSTAMP:20260423T184103
CREATED:20180604T173256Z
LAST-MODIFIED:20180604T173605Z
UID:573-1530099000-1530109800@mnrr.org
SUMMARY:Harmon Retirees Luncheon
DESCRIPTION:Wednesday June 27\, 2018 – Seasons 2 Restaurant      website/address\nAttention all Harmon Mechanical Department Retirees \nSit down lunch from a menu selection shown below.  Cost is $30 pp\,  arrive at 11:30 for Noon lunch \nChoice of Main Course: \n\nStuffed shrimp with crabmeat stuffing\nRoast Pork served with apple sauce\n8oz. Sirloin Steak\nBroiled or blackened tilapia\nHalf rack of baby back ribs\nSauteed calamari in a chopped clam marinara sauce over linguini\nPenne with sauteed chcken\, broccoli and tomatoes in a lite garlic sauce\nHomemade chicken cordon bleu topped with alfredo sauce\n\nServed with a cup of soup\, choice of french fries\, waffle fries\, mashed potatoes\, baked potato\, rice\, pasta or vegetables. \ncoffee\, tea and cheesecake or chocolate cake for desert
URL:https://mnrr.org/event/harmon-retirees-luncheon-2/
LOCATION:Season 2 Restaurant\, 1545 NY-52\,  Fishkill\, NY 12524\, NY 12524\, 12524\, United States
END:VEVENT
BEGIN:VEVENT
DTSTART;TZID=UTC:20180612T110000
DTEND;TZID=UTC:20180612T140000
DTSTAMP:20260423T184103
CREATED:20180609T230559Z
LAST-MODIFIED:20180609T230559Z
UID:582-1528801200-1528812000@mnrr.org
SUMMARY:All Metro North RR retirees – Lunch buffet – by Joe Russo - sponsored
DESCRIPTION:For all Metro North retirees\, the date for the June get together has been changed to \n Tuesday June 12th. I-84 Diner-  Tuesday June 12th @ 11:00am. \n We will be having a guest speaker who is paying for the lunch. \n All retirees are welcome\, if interested in attending please call Joe Russo @ 845-857-4417\,
URL:https://mnrr.org/event/all-metro-north-rr-retirees-lunch-buffet-by-joe-russo-sponsored/
LOCATION:I84 Diner\, 853 NY-52\, Fishkill\, NY\, 12524\, United States
END:VEVENT
BEGIN:VEVENT
DTSTART;TZID=UTC:20180605T093000
DTEND;TZID=UTC:20180605T233000
DTSTAMP:20260423T184103
CREATED:20180604T172559Z
LAST-MODIFIED:20180604T172559Z
UID:566-1528191000-1528241400@mnrr.org
SUMMARY:Danbury Breakfast Club
DESCRIPTION:Next gathering will be Tuesday 6/5 at the New Holiday Diner\, 123 White Street\, at 9:30. \nWe meet five times  year\, on the first Tuesday of April\, June\, August\, October and December. \nThe last ones for 2018 will be on 8/7\, 10/2\, 12/4.  If you have any questions\, you may contact me at NHRR67@comcast.net \nAmos Hewit
URL:https://mnrr.org/event/danbury-breakfast-club/
LOCATION:New Holiday Diner\, 123 White St.\, Danbury\, CT\, 06810\, United States
ORGANIZER;CN="Amos%20Hewitt":MAILTO:NHRR67@comcast.net
END:VEVENT
BEGIN:VEVENT
DTSTART;TZID=UTC:20180418T113000
DTEND;TZID=UTC:20180418T150000
DTSTAMP:20260423T184103
CREATED:20180223T023545Z
LAST-MODIFIED:20180329T175143Z
UID:555-1524051000-1524063600@mnrr.org
SUMMARY:Harmon Retirees Luncheon
DESCRIPTION:April 18\, 2018 – Seasons 2 Restaurant      website/address\nAttention all Harmon Mechanical Department Retirees \nSit down lunch from a menu selection shown below.  Cost is Free\, sponsored by Mcgrath Law & Wealthcare\,  arrive at 11:30 for Noon lunch \nChoice of Main Course: \n\nStuffed shrimp with crabmeat stuffing\nRoast Pork served with apple sauce\n8oz. Sirloin Steak\nBroiled or blackened tilapia\nHalf rack of baby back ribs\nSauteed calamari in a chopped clam marinara sauce over linguini\nPenne with sauteed chcken\, broccoli and tomatoes in a lite garlic sauce\nHomemade chicken cordon bleu topped with alfredo sauce\n\nServed with a cup of soup\, choice of french fries\, waffle fries\, mashed potatoes\, baked potato\, rice\, pasta or vegetables. \ncoffee\, tea and cheesecake or chocolate cake for desert \n 
URL:https://mnrr.org/event/harmon-retirees-luncheon/
LOCATION:Season 2 Restaurant\, 1545 NY-52\,  Fishkill\, NY 12524\, NY 12524\, 12524\, United States
END:VEVENT
END:VCALENDAR