BEGIN:VCALENDAR
VERSION:2.0
PRODID:-//ical.marudot.com//iCal Event Maker
CALSCALE:GREGORIAN
BEGIN:VTIMEZONE
TZID:America/New_York
LAST-MODIFIED:20250410T142247Z
TZURL:https://www.tzurl.org/zoneinfo-outlook/America/New_York
X-LIC-LOCATION:America/New_York
BEGIN:DAYLIGHT
TZNAME:EDT
TZOFFSETFROM:-0500
TZOFFSETTO:-0400
DTSTART:19700308T020000
RRULE:FREQ=YEARLY;BYMONTH=3;BYDAY=2SU
END:DAYLIGHT
BEGIN:STANDARD
TZNAME:EST
TZOFFSETFROM:-0400
TZOFFSETTO:-0500
DTSTART:19701101T020000
RRULE:FREQ=YEARLY;BYMONTH=11;BYDAY=1SU
END:STANDARD
END:VTIMEZONE
BEGIN:VEVENT
DTSTAMP:20260312T175452Z
UID:1773337705203-26269@ical.marudot.com
DTSTART;TZID=America/New_York:20260415T120000
DTEND;TZID=America/New_York:20260415T150000
SUMMARY:Harmon Retirees 2026 Luncheon
DESCRIPTION:Harmon Retirees Luncheon
LOCATION:Cortlandt Colonial Restaurant
BEGIN:VALARM
ACTION:DISPLAY
DESCRIPTION:Harmon Retirees 2026 Luncheon
TRIGGER:-P1D
END:VALARM
END:VEVENT
BEGIN:VEVENT
DTSTAMP:20260312T175452Z
UID:1773337766224-76981@ical.marudot.com
DTSTART;TZID=America/New_York:20260610T120000
DTEND;TZID=America/New_York:20260610T150000
SUMMARY:Harmon Retirees 2026 Luncheon
DESCRIPTION:Harmon Retirees 2026 Luncheon
LOCATION:Cortlandt Colonial
BEGIN:VALARM
ACTION:DISPLAY
DESCRIPTION:Harmon Retirees 2026 Luncheon
TRIGGER:-P1D
END:VALARM
END:VEVENT
BEGIN:VEVENT
DTSTAMP:20260312T175452Z
UID:1773337821362-26097@ical.marudot.com
DTSTART;TZID=America/New_York:20260812T120000
DTEND;TZID=America/New_York:20260812T150000
SUMMARY:Harmon Retirees 2026 Steak & Lobster BBQ
DESCRIPTION:Harmon Retirees 2026 Steak & Lobster BBQ
LOCATION:Cortlandt Colonial Reataurant
BEGIN:VALARM
ACTION:DISPLAY
DESCRIPTION:Harmon Retirees 2026 Steak & Lobster BBQ
TRIGGER:-P1D
END:VALARM
END:VEVENT
BEGIN:VEVENT
DTSTAMP:20260312T175452Z
UID:1773337875257-64020@ical.marudot.com
DTSTART;TZID=America/New_York:20261014T120000
DTEND;TZID=America/New_York:20261014T150000
SUMMARY:Harmon Retirees Luncheon
DESCRIPTION:Harmon Retirees Luncheon
LOCATION:Cortlandt Colonial Restaurant
BEGIN:VALARM
ACTION:DISPLAY
DESCRIPTION:Harmon Retirees Luncheon
TRIGGER:-P1D
END:VALARM
END:VEVENT
END:VCALENDAR